BEGIN:VCALENDAR
VERSION:2.0
PRODID:-//Algemene Gymnastiekvereniging Fit Lisse - ECPv6.15.20//NONSGML v1.0//EN
CALSCALE:GREGORIAN
METHOD:PUBLISH
X-ORIGINAL-URL:https://fitlisse.nl
X-WR-CALDESC:Evenementen voor Algemene Gymnastiekvereniging Fit Lisse
REFRESH-INTERVAL;VALUE=DURATION:PT1H
X-Robots-Tag:noindex
X-PUBLISHED-TTL:PT1H
BEGIN:VTIMEZONE
TZID:Europe/Amsterdam
BEGIN:DAYLIGHT
TZOFFSETFROM:+0100
TZOFFSETTO:+0200
TZNAME:CEST
DTSTART:20170326T010000
END:DAYLIGHT
BEGIN:STANDARD
TZOFFSETFROM:+0200
TZOFFSETTO:+0100
TZNAME:CET
DTSTART:20171029T010000
END:STANDARD
BEGIN:DAYLIGHT
TZOFFSETFROM:+0100
TZOFFSETTO:+0200
TZNAME:CEST
DTSTART:20180325T010000
END:DAYLIGHT
BEGIN:STANDARD
TZOFFSETFROM:+0200
TZOFFSETTO:+0100
TZNAME:CET
DTSTART:20181028T010000
END:STANDARD
BEGIN:DAYLIGHT
TZOFFSETFROM:+0100
TZOFFSETTO:+0200
TZNAME:CEST
DTSTART:20190331T010000
END:DAYLIGHT
BEGIN:STANDARD
TZOFFSETFROM:+0200
TZOFFSETTO:+0100
TZNAME:CET
DTSTART:20191027T010000
END:STANDARD
BEGIN:DAYLIGHT
TZOFFSETFROM:+0100
TZOFFSETTO:+0200
TZNAME:CEST
DTSTART:20200329T010000
END:DAYLIGHT
BEGIN:STANDARD
TZOFFSETFROM:+0200
TZOFFSETTO:+0100
TZNAME:CET
DTSTART:20201025T010000
END:STANDARD
BEGIN:DAYLIGHT
TZOFFSETFROM:+0100
TZOFFSETTO:+0200
TZNAME:CEST
DTSTART:20210328T010000
END:DAYLIGHT
BEGIN:STANDARD
TZOFFSETFROM:+0200
TZOFFSETTO:+0100
TZNAME:CET
DTSTART:20211031T010000
END:STANDARD
BEGIN:DAYLIGHT
TZOFFSETFROM:+0100
TZOFFSETTO:+0200
TZNAME:CEST
DTSTART:20220327T010000
END:DAYLIGHT
BEGIN:STANDARD
TZOFFSETFROM:+0200
TZOFFSETTO:+0100
TZNAME:CET
DTSTART:20221030T010000
END:STANDARD
BEGIN:DAYLIGHT
TZOFFSETFROM:+0100
TZOFFSETTO:+0200
TZNAME:CEST
DTSTART:20230326T010000
END:DAYLIGHT
BEGIN:STANDARD
TZOFFSETFROM:+0200
TZOFFSETTO:+0100
TZNAME:CET
DTSTART:20231029T010000
END:STANDARD
END:VTIMEZONE
BEGIN:VEVENT
DTSTART;TZID=Europe/Amsterdam:20220313T080000
DTEND;TZID=Europe/Amsterdam:20220314T170000
DTSTAMP:20260425T125650
CREATED:20180919T111553Z
LAST-MODIFIED:20220221T204903Z
UID:5474-1647158400-1647277200@fitlisse.nl
SUMMARY:Districtswedstrijden middenbouw niveau 4
DESCRIPTION:
URL:https://fitlisse.nl/activiteit/districtswedstrijden-mb-niveau-4/
LOCATION:Rotterdam
CATEGORIES:Wedstrijden
END:VEVENT
BEGIN:VEVENT
DTSTART;TZID=Europe/Amsterdam:20210926T140000
DTEND;TZID=Europe/Amsterdam:20210926T163000
DTSTAMP:20260425T125650
CREATED:20170913T215931Z
LAST-MODIFIED:20210906T221907Z
UID:4989-1632664800-1632673800@fitlisse.nl
SUMMARY:Gymfeest
DESCRIPTION:[vc_row][vc_column][vc_column_text]Bij ons jaarlijkse gymastiekfeest staan weer genoeg toestellen en leuke dingen voor je klaar\, waardoor je gegarandeerd een leuke middag zult hebben. Misschien ben je na afloop wel zo enthousiast geworden dat je hierna ook wel eens een proefles bij ons zou willen doen. Turntoestellen zoals de balk en de brug staan voor je klaar\, maar ook trampolines en een airtumblingbaan. Leden van de harddraverij betalen voor dit evenement €1\,50 en de entree voor niet leden is €2\,50. Wij hopen jullie allemaal de 23ste te zien![/vc_column_text][/vc_column][/vc_row]
URL:https://fitlisse.nl/activiteit/gymfeest/
LOCATION:Waterkanten\, Sportlaan 21\, Lisse\, Nederland
CATEGORIES:Activiteiten
END:VEVENT
BEGIN:VEVENT
DTSTART;TZID=Europe/Amsterdam:20210522T080000
DTEND;TZID=Europe/Amsterdam:20210522T170000
DTSTAMP:20260425T125650
CREATED:20211215T000746Z
LAST-MODIFIED:20220221T205011Z
UID:8135-1621670400-1621702800@fitlisse.nl
SUMMARY:Duin- en Bollenstreek wedstrijden (selectie)
DESCRIPTION:
URL:https://fitlisse.nl/activiteit/duin-en-bollenstreek-wedstrijden-selectie/
CATEGORIES:Wedstrijden
END:VEVENT
BEGIN:VEVENT
DTSTART;TZID=Europe/Amsterdam:20200721T080000
DTEND;TZID=Europe/Amsterdam:20200724T170000
DTSTAMP:20260425T125650
CREATED:20200624T213330Z
LAST-MODIFIED:20200624T213330Z
UID:7048-1595318400-1595610000@fitlisse.nl
SUMMARY:MIR2KAMP Lisse
DESCRIPTION:
URL:https://fitlisse.nl/activiteit/mir2kamp-lisse/
LOCATION:Ter Specke\, Spekkelaan 8\, Lisse
CATEGORIES:Activiteiten
END:VEVENT
BEGIN:VEVENT
DTSTART;TZID=Europe/Amsterdam:20200704T090000
DTEND;TZID=Europe/Amsterdam:20200704T150000
DTSTAMP:20260425T125650
CREATED:20190212T194022Z
LAST-MODIFIED:20200430T150447Z
UID:5622-1593853200-1593874800@fitlisse.nl
SUMMARY:AFGELAST Onderlinge wedstrijden
DESCRIPTION: 
URL:https://fitlisse.nl/activiteit/onderlinge-wedstrijden/
LOCATION:Waterkanten\, Sportlaan 21\, Lisse\, Nederland
CATEGORIES:Wedstrijden
END:VEVENT
BEGIN:VEVENT
DTSTART;TZID=Europe/Amsterdam:20200315T120000
DTEND;TZID=Europe/Amsterdam:20200315T160000
DTSTAMP:20260425T125650
CREATED:20200304T164032Z
LAST-MODIFIED:20200315T234014Z
UID:6628-1584273600-1584288000@fitlisse.nl
SUMMARY:AFGELAST Jubileum 5 jaar Waterkanten
DESCRIPTION:[vc_row][vc_column][vc_wp_text]Sportcentrum de Waterkanten bestaat alweer 5 jaar. Om dit te vieren zijn er op zondag 15 maart allemaal leuke dingen te doen. Zo organiseren wij onder andere een sportinstuif voor kinderen van 1\,5 tot 5 jaar. Daarnaast zal de turnselectie alvast een voorproefje laten zien van de demo die zij ook zullen uitvoeren op Koningsdag.[/vc_wp_text][/vc_column][/vc_row]
URL:https://fitlisse.nl/activiteit/jubileum-5-jaar-waterkanten/
LOCATION:Waterkanten Lisse\, Sportlaan 21\, Lisse\, 2161 VA\, Nederland
CATEGORIES:Activiteiten
END:VEVENT
BEGIN:VEVENT
DTSTART;TZID=Europe/Amsterdam:20191214T080000
DTEND;TZID=Europe/Amsterdam:20191215T170000
DTSTAMP:20260425T125650
CREATED:20191206T173233Z
LAST-MODIFIED:20191206T173233Z
UID:6399-1576310400-1576429200@fitlisse.nl
SUMMARY:Districtswedstrijden pupil-1 N3
DESCRIPTION: 
URL:https://fitlisse.nl/activiteit/districtswedstrijden-pupil-1-n3/
LOCATION:Hellevoetsluis
CATEGORIES:Wedstrijden
END:VEVENT
BEGIN:VEVENT
DTSTART;TZID=Europe/Amsterdam:20191123T080000
DTEND;TZID=Europe/Amsterdam:20191124T170000
DTSTAMP:20260425T125650
CREATED:20181107T115202Z
LAST-MODIFIED:20190621T214849Z
UID:5525-1574496000-1574614800@fitlisse.nl
SUMMARY:Districtswedstrijden 4e divisie jeugd-2\, junior en senior
DESCRIPTION:
URL:https://fitlisse.nl/activiteit/districtswedstrijden-4e-divisie-jeugd-2-junior-en-senior/
LOCATION:Amsterdam\, Sloterweg 1043\, Amsterdam
CATEGORIES:Wedstrijden
END:VEVENT
BEGIN:VEVENT
DTSTART;TZID=Europe/Amsterdam:20191118T201500
DTEND;TZID=Europe/Amsterdam:20191118T220000
DTSTAMP:20260425T125650
CREATED:20181104T141729Z
LAST-MODIFIED:20191030T135503Z
UID:5511-1574108100-1574114400@fitlisse.nl
SUMMARY:Algemene Ledenvergadering
DESCRIPTION:[vc_row][vc_column][vc_column_text] \n\n\n\n\nMaandag 10 december is de algemene ledenvergadering. We starten om 20:15 in de vergaderruimte van Waterkanten op de eerste verdieping. Iedereen is van harte welkom! Wij bespreken de financiële situatie van de vereniging nemen afscheid van Marja\, onze penningmeester en stemmen voor de nieuwe penningmeester. Uiteraard is er ook ruimte om vragen te stellen aan het bestuur. \n\n\n\n\n[/vc_column_text][/vc_column][/vc_row]
URL:https://fitlisse.nl/activiteit/algemene-ledenvergadering-2018/
LOCATION:Waterkanten Lisse\, Sportlaan 21\, Lisse\, 2161 VA\, Nederland
CATEGORIES:Activiteiten
ORGANIZER;CN="Fit Lisse":MAILTO:secretariaat@fitlisse.nl
END:VEVENT
BEGIN:VEVENT
DTSTART;TZID=Europe/Amsterdam:20190629T080000
DTEND;TZID=Europe/Amsterdam:20190629T170000
DTSTAMP:20260425T125650
CREATED:20180919T112205Z
LAST-MODIFIED:20180919T112205Z
UID:5484-1561795200-1561827600@fitlisse.nl
SUMMARY:Districtsfinale instap D1 en N3
DESCRIPTION:
URL:https://fitlisse.nl/activiteit/districtsfinale-instap-d1-en-n3/
CATEGORIES:Wedstrijden
END:VEVENT
BEGIN:VEVENT
DTSTART;TZID=Europe/Amsterdam:20190413T080000
DTEND;TZID=Europe/Amsterdam:20190413T170000
DTSTAMP:20260425T125650
CREATED:20180814T171624Z
LAST-MODIFIED:20180919T110540Z
UID:5427-1555142400-1555174800@fitlisse.nl
SUMMARY:Districtswedstrijden D2 pupil-2
DESCRIPTION:
URL:https://fitlisse.nl/activiteit/districtswedstrijden-d2-pupil-2/
LOCATION:Den Haag Overbosch\, Vlaskamp 5\, Den Haag\, Nederland
CATEGORIES:Wedstrijden
END:VEVENT
BEGIN:VEVENT
DTSTART;VALUE=DATE:20190304
DTEND;VALUE=DATE:20190310
DTSTAMP:20260425T125650
CREATED:20180919T110030Z
LAST-MODIFIED:20181222T154526Z
UID:5465-1551657600-1552175999@fitlisse.nl
SUMMARY:Kijklessen
DESCRIPTION:[vc_row][vc_column][vc_column_text]In de week na de voorjaarsvakantie (4 t/m 9 maart) zijn er weer kijklessen! Tijdens deze uren bent u welkom om te kijken bij de turnles van uw zoon/dochter? Bent u benieuwd wat de kinderen doen tijdens de lessen of wilt u zien wat uw kind allemaal geleerd heeft? Dan is dit de gelegenheid![/vc_column_text][/vc_column][/vc_row]
URL:https://fitlisse.nl/activiteit/kijklessen-2/
LOCATION:Waterkanten Lisse\, Sportlaan 21\, Lisse\, 2161 VA\, Nederland
CATEGORIES:Activiteiten
END:VEVENT
BEGIN:VEVENT
DTSTART;VALUE=DATE:20180630
DTEND;VALUE=DATE:20180701
DTSTAMP:20260425T125650
CREATED:20180217T223454Z
LAST-MODIFIED:20180217T223454Z
UID:5348-1530316800-1530403199@fitlisse.nl
SUMMARY:Selectie uitje
DESCRIPTION:
URL:https://fitlisse.nl/activiteit/selectie-uitje/
END:VEVENT
END:VCALENDAR