BEGIN:VCALENDAR
VERSION:2.0
PRODID:-//Algemene Gymnastiekvereniging Fit Lisse - ECPv6.15.20//NONSGML v1.0//EN
CALSCALE:GREGORIAN
METHOD:PUBLISH
X-WR-CALNAME:Algemene Gymnastiekvereniging Fit Lisse
X-ORIGINAL-URL:https://fitlisse.nl
X-WR-CALDESC:Evenementen voor Algemene Gymnastiekvereniging Fit Lisse
REFRESH-INTERVAL;VALUE=DURATION:PT1H
X-Robots-Tag:noindex
X-PUBLISHED-TTL:PT1H
BEGIN:VTIMEZONE
TZID:Europe/Amsterdam
BEGIN:DAYLIGHT
TZOFFSETFROM:+0100
TZOFFSETTO:+0200
TZNAME:CEST
DTSTART:20170326T010000
END:DAYLIGHT
BEGIN:STANDARD
TZOFFSETFROM:+0200
TZOFFSETTO:+0100
TZNAME:CET
DTSTART:20171029T010000
END:STANDARD
BEGIN:DAYLIGHT
TZOFFSETFROM:+0100
TZOFFSETTO:+0200
TZNAME:CEST
DTSTART:20180325T010000
END:DAYLIGHT
BEGIN:STANDARD
TZOFFSETFROM:+0200
TZOFFSETTO:+0100
TZNAME:CET
DTSTART:20181028T010000
END:STANDARD
BEGIN:DAYLIGHT
TZOFFSETFROM:+0100
TZOFFSETTO:+0200
TZNAME:CEST
DTSTART:20190331T010000
END:DAYLIGHT
BEGIN:STANDARD
TZOFFSETFROM:+0200
TZOFFSETTO:+0100
TZNAME:CET
DTSTART:20191027T010000
END:STANDARD
BEGIN:DAYLIGHT
TZOFFSETFROM:+0100
TZOFFSETTO:+0200
TZNAME:CEST
DTSTART:20200329T010000
END:DAYLIGHT
BEGIN:STANDARD
TZOFFSETFROM:+0200
TZOFFSETTO:+0100
TZNAME:CET
DTSTART:20201025T010000
END:STANDARD
END:VTIMEZONE
BEGIN:VEVENT
DTSTART;TZID=Europe/Amsterdam:20190413T080000
DTEND;TZID=Europe/Amsterdam:20190413T170000
DTSTAMP:20260425T141649
CREATED:20180814T171624Z
LAST-MODIFIED:20180919T110540Z
UID:5427-1555142400-1555174800@fitlisse.nl
SUMMARY:Districtswedstrijden D2 pupil-2
DESCRIPTION:
URL:https://fitlisse.nl/activiteit/districtswedstrijden-d2-pupil-2/
LOCATION:Den Haag Overbosch\, Vlaskamp 5\, Den Haag\, Nederland
CATEGORIES:Wedstrijden
END:VEVENT
BEGIN:VEVENT
DTSTART;VALUE=DATE:20190304
DTEND;VALUE=DATE:20190310
DTSTAMP:20260425T141649
CREATED:20180919T110030Z
LAST-MODIFIED:20181222T154526Z
UID:5465-1551657600-1552175999@fitlisse.nl
SUMMARY:Kijklessen
DESCRIPTION:[vc_row][vc_column][vc_column_text]In de week na de voorjaarsvakantie (4 t/m 9 maart) zijn er weer kijklessen! Tijdens deze uren bent u welkom om te kijken bij de turnles van uw zoon/dochter? Bent u benieuwd wat de kinderen doen tijdens de lessen of wilt u zien wat uw kind allemaal geleerd heeft? Dan is dit de gelegenheid![/vc_column_text][/vc_column][/vc_row]
URL:https://fitlisse.nl/activiteit/kijklessen-2/
LOCATION:Waterkanten Lisse\, Sportlaan 21\, Lisse\, 2161 VA\, Nederland
CATEGORIES:Activiteiten
END:VEVENT
BEGIN:VEVENT
DTSTART;VALUE=DATE:20180630
DTEND;VALUE=DATE:20180701
DTSTAMP:20260425T141649
CREATED:20180217T223454Z
LAST-MODIFIED:20180217T223454Z
UID:5348-1530316800-1530403199@fitlisse.nl
SUMMARY:Selectie uitje
DESCRIPTION:
URL:https://fitlisse.nl/activiteit/selectie-uitje/
END:VEVENT
END:VCALENDAR